BEGIN:VCALENDAR
VERSION:2.0
PRODID:-//Beau Photo Supplies Inc. - ECPv6.15.15//NONSGML v1.0//EN
CALSCALE:GREGORIAN
METHOD:PUBLISH
X-ORIGINAL-URL:https://www.beauphoto.com
X-WR-CALDESC:Events for Beau Photo Supplies Inc.
REFRESH-INTERVAL;VALUE=DURATION:PT1H
X-Robots-Tag:noindex
X-PUBLISHED-TTL:PT1H
BEGIN:VTIMEZONE
TZID:America/Vancouver
BEGIN:DAYLIGHT
TZOFFSETFROM:-0800
TZOFFSETTO:-0700
TZNAME:PDT
DTSTART:20240310T100000
END:DAYLIGHT
BEGIN:STANDARD
TZOFFSETFROM:-0700
TZOFFSETTO:-0800
TZNAME:PST
DTSTART:20241103T090000
END:STANDARD
BEGIN:DAYLIGHT
TZOFFSETFROM:-0800
TZOFFSETTO:-0700
TZNAME:PDT
DTSTART:20250309T100000
END:DAYLIGHT
BEGIN:STANDARD
TZOFFSETFROM:-0700
TZOFFSETTO:-0800
TZNAME:PST
DTSTART:20251102T090000
END:STANDARD
BEGIN:DAYLIGHT
TZOFFSETFROM:-0800
TZOFFSETTO:-0700
TZNAME:PDT
DTSTART:20260308T100000
END:DAYLIGHT
BEGIN:STANDARD
TZOFFSETFROM:-0700
TZOFFSETTO:-0800
TZNAME:PST
DTSTART:20261101T090000
END:STANDARD
END:VTIMEZONE
BEGIN:VEVENT
DTSTART;TZID=America/Vancouver:20251022T150000
DTEND;TZID=America/Vancouver:20251022T163000
DTSTAMP:20260420T203841
CREATED:20250926T180537Z
LAST-MODIFIED:20250926T180537Z
UID:97252-1761145200-1761150600@www.beauphoto.com
SUMMARY:Wildlife Photography Talk with Jason
DESCRIPTION:Jason shares wildlife photos from Vancouver\, discusses challenges of animal photography\, and showcases gear from Beau Photo. \nTickets are free but space is limited so sign up on Eventbrite to reserve your spot.
URL:https://www.beauphoto.com/event/wildlife-photography-talk-with-jason/
LOCATION:The Galley George\, 140 West Hastings Street\, Vancouver\, BC\, V6B 1H5\, Canada
CATEGORIES:Events Calendar
ATTACH;FMTTYPE=image/jpeg:https://www.beauphoto.com/wp-content/uploads/Events/https___cdn.evbuc_.com_images_1131768413_228208534253_1_original.jpg
ORGANIZER;CN="Beau Photo":MAILTO:info@beauphoto.com
END:VEVENT
END:VCALENDAR