BEGIN:VCALENDAR
VERSION:2.0
PRODID:-//Beau Photo Supplies Inc. - ECPv6.15.15//NONSGML v1.0//EN
CALSCALE:GREGORIAN
METHOD:PUBLISH
X-WR-CALNAME:Beau Photo Supplies Inc.
X-ORIGINAL-URL:https://www.beauphoto.com
X-WR-CALDESC:Events for Beau Photo Supplies Inc.
REFRESH-INTERVAL;VALUE=DURATION:PT1H
X-Robots-Tag:noindex
X-PUBLISHED-TTL:PT1H
BEGIN:VTIMEZONE
TZID:America/Vancouver
BEGIN:DAYLIGHT
TZOFFSETFROM:-0800
TZOFFSETTO:-0700
TZNAME:PDT
DTSTART:20240310T100000
END:DAYLIGHT
BEGIN:STANDARD
TZOFFSETFROM:-0700
TZOFFSETTO:-0800
TZNAME:PST
DTSTART:20241103T090000
END:STANDARD
BEGIN:DAYLIGHT
TZOFFSETFROM:-0800
TZOFFSETTO:-0700
TZNAME:PDT
DTSTART:20250309T100000
END:DAYLIGHT
BEGIN:STANDARD
TZOFFSETFROM:-0700
TZOFFSETTO:-0800
TZNAME:PST
DTSTART:20251102T090000
END:STANDARD
BEGIN:DAYLIGHT
TZOFFSETFROM:-0800
TZOFFSETTO:-0700
TZNAME:PDT
DTSTART:20260308T100000
END:DAYLIGHT
BEGIN:STANDARD
TZOFFSETFROM:-0700
TZOFFSETTO:-0800
TZNAME:PST
DTSTART:20261101T090000
END:STANDARD
END:VTIMEZONE
BEGIN:VEVENT
DTSTART;VALUE=DATE:20250827
DTEND;VALUE=DATE:20250828
DTSTAMP:20260420T235259
CREATED:20250722T233250Z
LAST-MODIFIED:20250722T233250Z
UID:94974-1756252800-1756339199@www.beauphoto.com
SUMMARY:Interactive Outdoor Photography Workshop with Profoto at Bowen Island
DESCRIPTION:Due to the popular demand and successful event last year\, Profoto is pleased to bring back an all-day interactive photo workshop in beautiful Bowen Island. \nJoin us for an immersive on-location interactive outdoor group photography workshop designed for photographers of all skill levels who are eager to enhance their craft in a real-world setting. This hands-on workshop will take place at a stunning venue with mountains and lakes\, providing the perfect backdrop for capturing beautiful moments. \nReady to take charge and ready to complete a group photo assignment designed by incredible photographers. This workshop is interactive\, and you\, as participants\, will be in control of a photo shoot as a group!! \nGet Ready for a full-day interactive workshop! \nProfoto\, along with Beau Photo\, Henry’s Vancouver\, Canon\, and Fujifilm Canada\, will be present at the event to answer your questions on products (also check out their new products!) Photographers Raph Nogal\, Sean LeBlanc\, Olivia Van Dyke\, and Jonathan Bielaski will be there to guide and inspire you. \nWhat to Expect: \n\nExpert Guidance: Learn from seasoned top professional photographers who will share their tips\, techniques\, and insights on capturing the essence of a portrait.\nLive Demonstrations: Watch live shoots as instructors demonstrate various styles and approaches to photography\, including posed and candid shots.\nPractical Experience: Get the chance to practice your skills as you shoot alongside experienced photographers\, with opportunities to capture various aspects of photography—from the details to the emotional moments.\nNetworking Opportunities: Connect with fellow photographers\, build relationships\, and expand your professional network.\n\nLunch (buffet style) will be provided at the venue as well as snacks\, coffee\, and water. Please note that we are not able to guarantee that the foods are prepared in an environment that is nut-free and allergen-free. Please take caution if you have an allergy\, as we won’t be able to provide a separate allergy-free menu. \nWe will take a ferry across\, and the ferry costs are included. If you miss the ferry\, you will have to pay on your own in order to get to the venue. \nGet more information and tickets on Eventbrite – Interactive Outdoor Photography Workshop with Profoto
URL:https://www.beauphoto.com/event/interactive-outdoor-photography-workshop-with-profoto-at-bowen-island/
LOCATION:Bowen Island Lodge\, 380 Cardena Road\, Bowen Island\,\, BC\, V0N 1G2\, Canada
CATEGORIES:Events Calendar
ATTACH;FMTTYPE=image/jpeg:https://www.beauphoto.com/wp-content/uploads/Events/original.jpg
END:VEVENT
END:VCALENDAR