BEGIN:VCALENDAR
VERSION:2.0
PRODID:-//Beau Photo Supplies Inc. - ECPv6.15.15//NONSGML v1.0//EN
CALSCALE:GREGORIAN
METHOD:PUBLISH
X-WR-CALNAME:Beau Photo Supplies Inc.
X-ORIGINAL-URL:https://www.beauphoto.com
X-WR-CALDESC:Events for Beau Photo Supplies Inc.
REFRESH-INTERVAL;VALUE=DURATION:PT1H
X-Robots-Tag:noindex
X-PUBLISHED-TTL:PT1H
BEGIN:VTIMEZONE
TZID:America/Vancouver
BEGIN:DAYLIGHT
TZOFFSETFROM:-0800
TZOFFSETTO:-0700
TZNAME:PDT
DTSTART:20240310T100000
END:DAYLIGHT
BEGIN:STANDARD
TZOFFSETFROM:-0700
TZOFFSETTO:-0800
TZNAME:PST
DTSTART:20241103T090000
END:STANDARD
BEGIN:DAYLIGHT
TZOFFSETFROM:-0800
TZOFFSETTO:-0700
TZNAME:PDT
DTSTART:20250309T100000
END:DAYLIGHT
BEGIN:STANDARD
TZOFFSETFROM:-0700
TZOFFSETTO:-0800
TZNAME:PST
DTSTART:20251102T090000
END:STANDARD
BEGIN:DAYLIGHT
TZOFFSETFROM:-0800
TZOFFSETTO:-0700
TZNAME:PDT
DTSTART:20260308T100000
END:DAYLIGHT
BEGIN:STANDARD
TZOFFSETFROM:-0700
TZOFFSETTO:-0800
TZNAME:PST
DTSTART:20261101T090000
END:STANDARD
END:VTIMEZONE
BEGIN:VEVENT
DTSTART;TZID=America/Vancouver:20251101T140000
DTEND;TZID=America/Vancouver:20251101T160000
DTSTAMP:20260420T181827
CREATED:20251021T232343Z
LAST-MODIFIED:20251104T175240Z
UID:98112-1762005600-1762012800@www.beauphoto.com
SUMMARY:Photo Walk with Another Photography Club
DESCRIPTION:
URL:https://www.beauphoto.com/event/photo-walk-with-another-photography-club/
LOCATION:Port Moody\, POrt Moody\, British Columbia\, Canada
CATEGORIES:Events Calendar
ATTACH;FMTTYPE=image/jpeg:https://www.beauphoto.com/wp-content/uploads/Events/another-photo-club-walk.jpg
ORGANIZER;CN="Beau Photo":MAILTO:info@beauphoto.com
END:VEVENT
END:VCALENDAR