BEGIN:VCALENDAR
VERSION:2.0
PRODID:-//Beau Photo Supplies Inc. - ECPv6.15.15//NONSGML v1.0//EN
CALSCALE:GREGORIAN
METHOD:PUBLISH
X-ORIGINAL-URL:https://www.beauphoto.com
X-WR-CALDESC:Events for Beau Photo Supplies Inc.
REFRESH-INTERVAL;VALUE=DURATION:PT1H
X-Robots-Tag:noindex
X-PUBLISHED-TTL:PT1H
BEGIN:VTIMEZONE
TZID:America/Vancouver
BEGIN:DAYLIGHT
TZOFFSETFROM:-0800
TZOFFSETTO:-0700
TZNAME:PDT
DTSTART:20240310T100000
END:DAYLIGHT
BEGIN:STANDARD
TZOFFSETFROM:-0700
TZOFFSETTO:-0800
TZNAME:PST
DTSTART:20241103T090000
END:STANDARD
BEGIN:DAYLIGHT
TZOFFSETFROM:-0800
TZOFFSETTO:-0700
TZNAME:PDT
DTSTART:20250309T100000
END:DAYLIGHT
BEGIN:STANDARD
TZOFFSETFROM:-0700
TZOFFSETTO:-0800
TZNAME:PST
DTSTART:20251102T090000
END:STANDARD
BEGIN:DAYLIGHT
TZOFFSETFROM:-0800
TZOFFSETTO:-0700
TZNAME:PDT
DTSTART:20260308T100000
END:DAYLIGHT
BEGIN:STANDARD
TZOFFSETFROM:-0700
TZOFFSETTO:-0800
TZNAME:PST
DTSTART:20261101T090000
END:STANDARD
END:VTIMEZONE
BEGIN:VEVENT
DTSTART;TZID=America/Vancouver:20250618T080000
DTEND;TZID=America/Vancouver:20250809T170000
DTSTAMP:20260420T234246
CREATED:20250626T174445Z
LAST-MODIFIED:20250626T175331Z
UID:93805-1750233600-1754758800@www.beauphoto.com
SUMMARY:Shaped by Time - An Exhibition by Michael Cox
DESCRIPTION:June 18th – August 9th\nBeau Photo Gallery Space\nOpening Reception\nJune 26th 4:30 – 6:30pm \nCome by Beau and see the latest exhibition in our gallery space – \nErosion\, silt\, landslide – the geography of British Columbia is continually and dramatically altered in sudden and subtle ways. In the Chilcotin\, in the Fraser and Thompson canyons\, below UBC\, and along the Fraser estuary\, apparently stable landscapes are never as still as we perceive. This is mirrored\, as I observe with some detachment\, in the abrasions and defoliations of my aging body\, its own processes of erosion. \nThere has never been a time when I haven’t had a camera of one make or another in my hands. Whether selling cameras or books\, working on film sets or directing shorts\, even driving buses – photography has remained the lens through which I make sense of the world\, both root and compass\, anchoring me in purpose and understanding. \nThe images in this exhibition were made in 2024 with a Fujifilm GFX medium format digital camera\, edited with Capture One using film emulations by Mastin Labs\, and printed (by myself) on an Epson P800 with paper from Red River\, Ilford\, and Epson. \nMichael Cox
URL:https://www.beauphoto.com/event/shaped-by-time-an-exhibition-by-michael-cox/
LOCATION:Beau Photo Shop\, 110 - 1401 West 8th Ave\, Vancouver\, B.C.\, V6H 1C9\, Canada
CATEGORIES:Events Calendar
ATTACH;FMTTYPE=image/jpeg:https://www.beauphoto.com/wp-content/uploads/Events/mc_exhibit.jpg
ORGANIZER;CN="Beau Photo":MAILTO:info@beauphoto.com
END:VEVENT
BEGIN:VEVENT
DTSTART;TZID=America/Vancouver:20250808T080000
DTEND;TZID=America/Vancouver:20250817T170000
DTSTAMP:20260420T234246
CREATED:20250801T200537Z
LAST-MODIFIED:20250801T200537Z
UID:95227-1754640000-1755450000@www.beauphoto.com
SUMMARY:WPC Team Canada Photo Exhibition and Events
DESCRIPTION:Visit the WPC Team Canada Exhibition\, Deer Lake Art Gallery\, August 8-17\, 2025 \nGet ready to be inspired by the extraordinary photographs that showcased Canada on the world stage at this year’s World Photographic Cup. This stunning collection will be on display at the Deer Lake Art Gallery in Burnaby —don’t miss the chance to celebrate Canadian talent and creativity up close at the exhibition’s only stop in BC. \nThe World Photographic Cup (WPC) is the ‘Olympics’ of photography and this exhibition is more than just a display\, it is a celebration of national pride and the power of visual storytelling. \nFeaturing 30 stunning images from the current Canadian entry\, along with 15 award-winning images from past Canadian medalists\, this collection is a testament to the country’s talent\, creativity\, and artistic excellence. \nhttps://wpcteamcanada.com/wpc-photography-exhibition-burnaby-bc/ \n  \nOpening Reception\, August 8th 5:30pm-8:00pm \nCome browse the art while enjoying light refreshments and chatting with local WPC Team Canada members. Then at 6:30pm celebrate with us as we present Vancouver photographer\, Nick Didlick\, with the Gold Medal he earned in the Sports Category at the 2025 World Photographic Cup. \nFree event – ticket registration required \nhttps://wpcteamcanada-exhibition-opening-burnaby.eventbrite.ca \n  \n“A World of Inspiration” Presentation\, August 13th 7:00pm – 9:00pm \nA presentation for photographers and those that love photographic art. \nStart the evening by viewing Team Canada’s World Photographic Cup exhibition —remarkable images carefully selected through multiple rounds of curation to proudly represent Canada in this “Olympic Style” competition. Then at 7:30pm enjoy a presentation of visual excellence as we showcase all the medal winning images from the World Photographic Cup. After being inspired by the global photography\, learn more about Team Canada: what we do and how to submit images for consideration. All Canadian photographers from coast to coast\, representing a wide range of genres and styles are welcome to submit images. \nFree event\, registration required. \nhttps://wpcteamcanada-presentation-burnaby.eventbrite.ca
URL:https://www.beauphoto.com/event/wpc-team-canada-photo-exhibition-and-events/
LOCATION:The DLG – Deer Lake Art Gallery\, 6584 Deer Lake Ave\, Burnaby\, BC\, V5G 3T6\, Canada
CATEGORIES:Events Calendar
ATTACH;FMTTYPE=image/jpeg:https://www.beauphoto.com/wp-content/uploads/Events/‎WPC-ExhibitPoster-DeerLake.jpg
END:VEVENT
END:VCALENDAR