BEGIN:VCALENDAR
VERSION:2.0
PRODID:-//Beau Photo Supplies Inc. - ECPv6.15.15//NONSGML v1.0//EN
CALSCALE:GREGORIAN
METHOD:PUBLISH
X-ORIGINAL-URL:https://www.beauphoto.com
X-WR-CALDESC:Events for Beau Photo Supplies Inc.
REFRESH-INTERVAL;VALUE=DURATION:PT1H
X-Robots-Tag:noindex
X-PUBLISHED-TTL:PT1H
BEGIN:VTIMEZONE
TZID:America/Vancouver
BEGIN:DAYLIGHT
TZOFFSETFROM:-0800
TZOFFSETTO:-0700
TZNAME:PDT
DTSTART:20230312T100000
END:DAYLIGHT
BEGIN:STANDARD
TZOFFSETFROM:-0700
TZOFFSETTO:-0800
TZNAME:PST
DTSTART:20231105T090000
END:STANDARD
BEGIN:DAYLIGHT
TZOFFSETFROM:-0800
TZOFFSETTO:-0700
TZNAME:PDT
DTSTART:20240310T100000
END:DAYLIGHT
BEGIN:STANDARD
TZOFFSETFROM:-0700
TZOFFSETTO:-0800
TZNAME:PST
DTSTART:20241103T090000
END:STANDARD
BEGIN:DAYLIGHT
TZOFFSETFROM:-0800
TZOFFSETTO:-0700
TZNAME:PDT
DTSTART:20250309T100000
END:DAYLIGHT
BEGIN:STANDARD
TZOFFSETFROM:-0700
TZOFFSETTO:-0800
TZNAME:PST
DTSTART:20251102T090000
END:STANDARD
END:VTIMEZONE
BEGIN:VEVENT
DTSTART;TZID=America/Vancouver:20241128T163000
DTEND;TZID=America/Vancouver:20241128T183000
DTSTAMP:20260421T172826
CREATED:20241113T215253Z
LAST-MODIFIED:20241113T215253Z
UID:86991-1732811400-1732818600@www.beauphoto.com
SUMMARY:The Beau Show V2.0 Opening Reception
DESCRIPTION:Join the staff at Beau for our official show opening. See some of our work and find out what we’ve been up to with our own photo adventures.
URL:https://www.beauphoto.com/event/the-beau-show-v2-0-opening-reception/
LOCATION:Beau Photo Shop\, 110 - 1401 West 8th Ave\, Vancouver\, B.C.\, V6H 1C9\, Canada
CATEGORIES:Events Calendar
ATTACH;FMTTYPE=image/jpeg:https://www.beauphoto.com/wp-content/uploads/Events/beau_show_banner-1.jpg
ORGANIZER;CN="Beau Photo":MAILTO:info@beauphoto.com
END:VEVENT
BEGIN:VEVENT
DTSTART;TZID=America/Vancouver:20241128T190000
DTEND;TZID=America/Vancouver:20241128T220000
DTSTAMP:20260421T172826
CREATED:20240819T190058Z
LAST-MODIFIED:20240819T190058Z
UID:75220-1732820400-1732831200@www.beauphoto.com
SUMMARY:Presentation: The Condor & The Bull - Michael Bednar
DESCRIPTION:For the past two years\, Michael has been living in Peru documenting the Indigenous Quechua people of the Andes. The project is focused on the unique culture of the Quechua\, their intimate connection to the land\, and their deep spirituality as they struggle to maintain their way of life in a rapidly changing world. In this presentation\, Michael will share images and stories from the project for the first time at Gallery 881. \nGallery 881 is a lens-based art hub promoting the photographic arts in Vancouver through exhibitions\, art sales\, public events\, and other visual art-based programming. Michael is excited to be partnering with Gallery 881 owner John Goldsmith to bring you this project for the first time in Vancouver. \nA select series of small prints from the project will be made available at the presentation. These will be printed by PrintMaker Studio which is the full-service\, fine art print studio and framing service available at Gallery 881. \nA booklet of photos from the project is available to presentation attendees and can be purchased at a discounted price when purchased with their ticket. This booklet is not available to the general public. \nNovember 28th\, 2024 – 7 to 10 pm\nVancouver\, BC – Gallery 881 \nPurchase tickets on Michael’s website – https://www.michaelbednar.com/events/event-two-hyzyj
URL:https://www.beauphoto.com/event/presentation-the-condor-the-bull-michael-bednar/
LOCATION:Gallery 881\, 881 East Hastings Street\, Vancouver\, BC\, V6A 3Y1\, Canada
CATEGORIES:Events Calendar
ATTACH;FMTTYPE=image/jpeg:https://www.beauphoto.com/wp-content/uploads/Events/Kawsachun_Runasimi-03.jpg
END:VEVENT
END:VCALENDAR