BEGIN:VCALENDAR
VERSION:2.0
PRODID:-//Beau Photo Supplies Inc. - ECPv6.15.15//NONSGML v1.0//EN
CALSCALE:GREGORIAN
METHOD:PUBLISH
X-ORIGINAL-URL:https://www.beauphoto.com
X-WR-CALDESC:Events for Beau Photo Supplies Inc.
REFRESH-INTERVAL;VALUE=DURATION:PT1H
X-Robots-Tag:noindex
X-PUBLISHED-TTL:PT1H
BEGIN:VTIMEZONE
TZID:America/Vancouver
BEGIN:DAYLIGHT
TZOFFSETFROM:-0800
TZOFFSETTO:-0700
TZNAME:PDT
DTSTART:20240310T100000
END:DAYLIGHT
BEGIN:STANDARD
TZOFFSETFROM:-0700
TZOFFSETTO:-0800
TZNAME:PST
DTSTART:20241103T090000
END:STANDARD
BEGIN:DAYLIGHT
TZOFFSETFROM:-0800
TZOFFSETTO:-0700
TZNAME:PDT
DTSTART:20250309T100000
END:DAYLIGHT
BEGIN:STANDARD
TZOFFSETFROM:-0700
TZOFFSETTO:-0800
TZNAME:PST
DTSTART:20251102T090000
END:STANDARD
BEGIN:DAYLIGHT
TZOFFSETFROM:-0800
TZOFFSETTO:-0700
TZNAME:PDT
DTSTART:20260308T100000
END:DAYLIGHT
BEGIN:STANDARD
TZOFFSETFROM:-0700
TZOFFSETTO:-0800
TZNAME:PST
DTSTART:20261101T090000
END:STANDARD
END:VTIMEZONE
BEGIN:VEVENT
DTSTART;TZID=America/Vancouver:20250611T133000
DTEND;TZID=America/Vancouver:20250611T163000
DTSTAMP:20260423T123809
CREATED:20250529T234234Z
LAST-MODIFIED:20250529T234349Z
UID:92932-1749648600-1749659400@www.beauphoto.com
SUMMARY:Elinchrom Workshop and Demo with Aaron Aubrey
DESCRIPTION:Join Aaron Aubrey at Beau Photo for a primer on lighting principles and studio tethering followed by an immersive\, hands on\, live demonstration of various lighting techniques utilizing Elinchrom strobes and light shapers. This event will cover it all\, from elevated portraiture and colorful fashion imagery\, to the nuanced techniques of balancing ambient light with strobes and high speed sync. \nParticipants will have an opportunity to shoot during the event\, so be sure to bring your camera\, fully charged and loaded with a memory card. Come and meet some great people\, elevate your lighting skills\, and experience how Elinchrom can power your next adventure! \nAaron is a headshot and editorial portrait photographer who loves to showcase his subjects with a flair for the dramatic. From the hillsides of India\, to his studio in Vancouver\, Aaron engages his viewers with lighting that is crafted to make his subjects larger than life. \nThis is a FREE event but please be sure to register at the Eventbrite link below.
URL:https://www.beauphoto.com/event/elinchrom-workshop-and-demo-with-aaron-aubrey/
LOCATION:Beau Photo Shop\, 110 - 1401 West 8th Ave\, Vancouver\, B.C.\, V6H 1C9\, Canada
CATEGORIES:Events Calendar
ATTACH;FMTTYPE=image/png:https://www.beauphoto.com/wp-content/uploads/Events/ElinchromBanner.png
ORGANIZER;CN="Beau Photo":MAILTO:info@beauphoto.com
END:VEVENT
END:VCALENDAR