BEGIN:VCALENDAR
VERSION:2.0
PRODID:-//Beau Photo Supplies Inc. - ECPv6.15.15//NONSGML v1.0//EN
CALSCALE:GREGORIAN
METHOD:PUBLISH
X-ORIGINAL-URL:https://www.beauphoto.com
X-WR-CALDESC:Events for Beau Photo Supplies Inc.
REFRESH-INTERVAL;VALUE=DURATION:PT1H
X-Robots-Tag:noindex
X-PUBLISHED-TTL:PT1H
BEGIN:VTIMEZONE
TZID:America/Vancouver
BEGIN:DAYLIGHT
TZOFFSETFROM:-0800
TZOFFSETTO:-0700
TZNAME:PDT
DTSTART:20190310T100000
END:DAYLIGHT
BEGIN:STANDARD
TZOFFSETFROM:-0700
TZOFFSETTO:-0800
TZNAME:PST
DTSTART:20191103T090000
END:STANDARD
BEGIN:DAYLIGHT
TZOFFSETFROM:-0800
TZOFFSETTO:-0700
TZNAME:PDT
DTSTART:20200308T100000
END:DAYLIGHT
BEGIN:STANDARD
TZOFFSETFROM:-0700
TZOFFSETTO:-0800
TZNAME:PST
DTSTART:20201101T090000
END:STANDARD
BEGIN:DAYLIGHT
TZOFFSETFROM:-0800
TZOFFSETTO:-0700
TZNAME:PDT
DTSTART:20210314T100000
END:DAYLIGHT
BEGIN:STANDARD
TZOFFSETFROM:-0700
TZOFFSETTO:-0800
TZNAME:PST
DTSTART:20211107T090000
END:STANDARD
END:VTIMEZONE
BEGIN:VEVENT
DTSTART;TZID=America/Vancouver:20200123T150000
DTEND;TZID=America/Vancouver:20200123T190000
DTSTAMP:20260421T222514
CREATED:20200110T223536Z
LAST-MODIFIED:20200110T223658Z
UID:26542-1579791600-1579806000@www.beauphoto.com
SUMMARY:The NEW Canon 1DX Mark III - In-Store Launch Event and Pre-Order special!
DESCRIPTION:On Thursday\, January 23rd from 3:00pm to 7:00pm\, come to Beau Photo Supplies for a hands-on preview of Canon’s 1DX Mark III\, their latest flagship professional DSLR body\, before it starts shipping on February 12th. Take advantage of the pre-order special as well\, including well over $1\,200 in free goods! For further pre-order information\, feel free to call\, email or come by the store and speak to Mike. You can email Mike at digital@beauphoto.com.
URL:https://www.beauphoto.com/event/the-new-canon-1dx-mark-iii-in-store-launch-event-and-pre-order-special/
LOCATION:Beau Photo Shop\, 110 - 1401 West 8th Ave\, Vancouver\, B.C.\, V6H 1C9\, Canada
CATEGORIES:Events Calendar
ORGANIZER;CN="Beau Photo":MAILTO:info@beauphoto.com
END:VEVENT
END:VCALENDAR