BEGIN:VCALENDAR
VERSION:2.0
PRODID:-//Beau Photo Supplies Inc. - ECPv6.15.15//NONSGML v1.0//EN
CALSCALE:GREGORIAN
METHOD:PUBLISH
X-WR-CALNAME:Beau Photo Supplies Inc.
X-ORIGINAL-URL:https://www.beauphoto.com
X-WR-CALDESC:Events for Beau Photo Supplies Inc.
REFRESH-INTERVAL;VALUE=DURATION:PT1H
X-Robots-Tag:noindex
X-PUBLISHED-TTL:PT1H
BEGIN:VTIMEZONE
TZID:America/Vancouver
BEGIN:DAYLIGHT
TZOFFSETFROM:-0800
TZOFFSETTO:-0700
TZNAME:PDT
DTSTART:20240310T100000
END:DAYLIGHT
BEGIN:STANDARD
TZOFFSETFROM:-0700
TZOFFSETTO:-0800
TZNAME:PST
DTSTART:20241103T090000
END:STANDARD
BEGIN:DAYLIGHT
TZOFFSETFROM:-0800
TZOFFSETTO:-0700
TZNAME:PDT
DTSTART:20250309T100000
END:DAYLIGHT
BEGIN:STANDARD
TZOFFSETFROM:-0700
TZOFFSETTO:-0800
TZNAME:PST
DTSTART:20251102T090000
END:STANDARD
BEGIN:DAYLIGHT
TZOFFSETFROM:-0800
TZOFFSETTO:-0700
TZNAME:PDT
DTSTART:20260308T100000
END:DAYLIGHT
BEGIN:STANDARD
TZOFFSETFROM:-0700
TZOFFSETTO:-0800
TZNAME:PST
DTSTART:20261101T090000
END:STANDARD
END:VTIMEZONE
BEGIN:VEVENT
DTSTART;VALUE=DATE:20251002
DTEND;VALUE=DATE:20251008
DTSTAMP:20260421T071731
CREATED:20240707T203051Z
LAST-MODIFIED:20251003T221738Z
UID:87301-1759363200-1759881599@www.beauphoto.com
SUMMARY:KEH at Beau Photo
DESCRIPTION:[vc_row][vc_column][vc_column_text css=””]— October 6th 2025 — \nThey are back! \nKEH will be at Beau Photo for a buying event. Bring your used equipment in and KEH will look at it and make an offer to you. You have the option of either taking the offer as a cheque\, or getting 10% more and getting a credit with Beau. \n  \nThis event will be available for WALK INs and no appointment is necessary! Please stop by the store any time between 9am – 4pm Monday\, October 6th. \n  \nBONUS Trade-in Upgrade – You can choose to get your payout right away or get an extra 10% if you use it as a store credit at Beau. \n**Equipment must be clean and in good working order. \nItems NOT currently being purchased include \n\nDarkroom equipment\nDigital point-and-shoot cameras under 6-megapixels\nCameras in these film formats: APS\, 110\, 126\, and Disc Film\nVideo cameras that use film or tape formats\nStudio lighting that requires a power pack\, or hot lights\n\n[/vc_column_text][/vc_column][/vc_row]
URL:https://www.beauphoto.com/event/keh-at-beau-photo-3/
LOCATION:Beau Photo Shop\, 110 - 1401 West 8th Ave\, Vancouver\, B.C.\, V6H 1C9\, Canada
CATEGORIES:Events Calendar
ATTACH;FMTTYPE=image/jpeg:https://www.beauphoto.com/wp-content/uploads/Events/keh_new_lineup-web.jpg
ORGANIZER;CN="Beau Photo":MAILTO:info@beauphoto.com
END:VEVENT
BEGIN:VEVENT
DTSTART;TZID=America/Vancouver:20251004T100000
DTEND;TZID=America/Vancouver:20251004T140000
DTSTAMP:20260421T071731
CREATED:20251001T200121Z
LAST-MODIFIED:20251001T200121Z
UID:97460-1759572000-1759586400@www.beauphoto.com
SUMMARY:Beau Garage Sale
DESCRIPTION:Find some great deals on all the things we have hiding in our garage! There are items from every department so there will probably be something you are interested in. Come down and do some rummaging around to find the perfect treasure.
URL:https://www.beauphoto.com/event/beau-garage-sale/
LOCATION:Beau Photo Shop\, 110 - 1401 West 8th Ave\, Vancouver\, B.C.\, V6H 1C9\, Canada
CATEGORIES:Events Calendar
ATTACH;FMTTYPE=image/jpeg:https://www.beauphoto.com/wp-content/uploads/Events/garage.jpg
END:VEVENT
BEGIN:VEVENT
DTSTART;TZID=America/Vancouver:20251011T120000
DTEND;TZID=America/Vancouver:20251011T143000
DTSTAMP:20260421T071731
CREATED:20250926T002412Z
LAST-MODIFIED:20251008T162801Z
UID:97166-1760184000-1760193000@www.beauphoto.com
SUMMARY:Artist Exhibition Talk and Photowalk with Goran Basarić
DESCRIPTION:Join Gallery 881 and Beau Photo for an exhibition tour of City Pastoral: Leisure time in the Liminal City\, and artist’s talk\, followed by a photo walk with Goran Basarić and Beau Photo. The photo walk will invite photographers to investigate the city and its spaces around Gallery 881. \nBegun more than three decades ago and continuing to this day\, City Pastoral captures an ever-evolving portrait of life along the city’s shoreline. With his vintage Soviet Horizont analog camera\, Basarić renders leisure as “extravagant normalcy\,” revealing the poetic tension between urban habit and expansive horizon. \nThe exhibition includes 11 finished works\, along with panoramic photographs taken between 2000 and 2024. Seen together\, they affirm Basarić’s ongoing vision: to capture the fleeting yet enduring rhythms of life along Vancouver’s liminal threshold—a collective playground where the city meets the sea. \nSee more about this exhibition on the Gallery 881 website – www.gallery881.com/exhibitions/
URL:https://www.beauphoto.com/event/artist-exhibition-talk-and-photowalk-with-goran-basaric/
LOCATION:Gallery 881\, 881 East Hastings Street\, Vancouver\, BC\, V6A 3Y1\, Canada
CATEGORIES:Events Calendar
ATTACH;FMTTYPE=image/png:https://www.beauphoto.com/wp-content/uploads/Events/Goran-Basaric-City-Pasoral-Poster-Gallery-881_web.png
ORGANIZER;CN="Beau Photo":MAILTO:info@beauphoto.com
END:VEVENT
BEGIN:VEVENT
DTSTART;TZID=America/Vancouver:20251022T150000
DTEND;TZID=America/Vancouver:20251022T163000
DTSTAMP:20260421T071731
CREATED:20250926T180537Z
LAST-MODIFIED:20250926T180537Z
UID:97252-1761145200-1761150600@www.beauphoto.com
SUMMARY:Wildlife Photography Talk with Jason
DESCRIPTION:Jason shares wildlife photos from Vancouver\, discusses challenges of animal photography\, and showcases gear from Beau Photo. \nTickets are free but space is limited so sign up on Eventbrite to reserve your spot.
URL:https://www.beauphoto.com/event/wildlife-photography-talk-with-jason/
LOCATION:The Galley George\, 140 West Hastings Street\, Vancouver\, BC\, V6B 1H5\, Canada
CATEGORIES:Events Calendar
ATTACH;FMTTYPE=image/jpeg:https://www.beauphoto.com/wp-content/uploads/Events/https___cdn.evbuc_.com_images_1131768413_228208534253_1_original.jpg
ORGANIZER;CN="Beau Photo":MAILTO:info@beauphoto.com
END:VEVENT
BEGIN:VEVENT
DTSTART;TZID=America/Vancouver:20251024T080000
DTEND;TZID=America/Vancouver:20251026T170000
DTSTAMP:20260421T071731
CREATED:20250911T221947Z
LAST-MODIFIED:20250923T204449Z
UID:96725-1761292800-1761498000@www.beauphoto.com
SUMMARY:PHOTOgraphie Festival
DESCRIPTION:PHOTOGraphie is a festival-style event designed to bring people together and open up conversations about photography. It’s not just a workshop; it’s a place to meet and mingle with the creative community and to make lasting connections that will strengthen your business and keep you inspired well after the weekend is over. \nThey aim to empower the creative community to stay connected and work together to shape the photography industry in BC. \nTake part in workshops and seminars\, see the gallery exhibition and network with other photographers at this event. \nAs part of the festival\, Jason from Beau Photo will be giving a talk about wildlife photography at Gallery George on October 22nd. The event is free but registration is required. Tickets for this are now available on Eventbrite. Space is limited so register early!. \nVisit the website for more information and to register – https://photographiefestival.ca
URL:https://www.beauphoto.com/event/photographie-festival/
LOCATION:Simon Fraser University – Vancouver Campus\, 515 West Hastings Street\, Vancouver\, BC\, Canada
CATEGORIES:Events Calendar
ATTACH;FMTTYPE=image/jpeg:https://www.beauphoto.com/wp-content/uploads/Events/2019.11.01PHOTOGraphieBTS_Jamie-23.jpg
ORGANIZER;CN="PPOC":MAILTO:info@ppoc.ca
END:VEVENT
END:VCALENDAR