BEGIN:VCALENDAR
VERSION:2.0
PRODID:-//Beau Photo Supplies Inc. - ECPv6.15.15//NONSGML v1.0//EN
CALSCALE:GREGORIAN
METHOD:PUBLISH
X-WR-CALNAME:Beau Photo Supplies Inc.
X-ORIGINAL-URL:https://www.beauphoto.com
X-WR-CALDESC:Events for Beau Photo Supplies Inc.
REFRESH-INTERVAL;VALUE=DURATION:PT1H
X-Robots-Tag:noindex
X-PUBLISHED-TTL:PT1H
BEGIN:VTIMEZONE
TZID:America/Vancouver
BEGIN:DAYLIGHT
TZOFFSETFROM:-0800
TZOFFSETTO:-0700
TZNAME:PDT
DTSTART:20220313T100000
END:DAYLIGHT
BEGIN:STANDARD
TZOFFSETFROM:-0700
TZOFFSETTO:-0800
TZNAME:PST
DTSTART:20221106T090000
END:STANDARD
BEGIN:DAYLIGHT
TZOFFSETFROM:-0800
TZOFFSETTO:-0700
TZNAME:PDT
DTSTART:20230312T100000
END:DAYLIGHT
BEGIN:STANDARD
TZOFFSETFROM:-0700
TZOFFSETTO:-0800
TZNAME:PST
DTSTART:20231105T090000
END:STANDARD
BEGIN:DAYLIGHT
TZOFFSETFROM:-0800
TZOFFSETTO:-0700
TZNAME:PDT
DTSTART:20240310T100000
END:DAYLIGHT
BEGIN:STANDARD
TZOFFSETFROM:-0700
TZOFFSETTO:-0800
TZNAME:PST
DTSTART:20241103T090000
END:STANDARD
END:VTIMEZONE
BEGIN:VEVENT
DTSTART;TZID=America/Vancouver:20230119T080000
DTEND;TZID=America/Vancouver:20230318T170000
DTSTAMP:20260421T091634
CREATED:20230202T184440Z
LAST-MODIFIED:20230202T184440Z
UID:60568-1674115200-1679158800@www.beauphoto.com
SUMMARY:Award-Winning Photographs From The  2022 North Shore Photographic Challenge
DESCRIPTION:The North Shore Photographic Society is delighted to showcase award winning photos from its 38th annual North Shore Photographic Challenge\, which was held March 5\, 2022. \nImages from the top three clubs\, which are the North Shore Photographic Society (gold)\, Vernon Camera Club (silver) and Chung Ai Photographic Society (bronze)\, as well as the medalists in the club and individual categories are proudly displayed in the Beau Photo Gallery. \nThe North Shore Photographic Challenge is one of Western Canada’s premiere photographic competitions open to clubs and individuals from British Columbia and the Yukon. It will be held online on Saturday\, March 4th\, 2023. For tickets and more information\, please go to our website – www.nsps.ca. \nA very special thank you to Martin Mavko at Rocket Repro for donating the printing of these outstanding images. \nAbove is the Best in Show image “Illuminaria” by Anita Teljeur
URL:https://www.beauphoto.com/event/award-winning-photographs-from-the-2022-north-shore-photographic-challenge/
LOCATION:Beau Photo Shop\, 110 - 1401 West 8th Ave\, Vancouver\, B.C.\, V6H 1C9\, Canada
CATEGORIES:Events Calendar
ATTACH;FMTTYPE=image/jpeg:https://www.beauphoto.com/wp-content/uploads/beau_gallery/Illuminaria_Anita-Teljeur_web.jpg
END:VEVENT
BEGIN:VEVENT
DTSTART;TZID=America/Vancouver:20230321T080000
DTEND;TZID=America/Vancouver:20230505T170000
DTSTAMP:20260421T091634
CREATED:20230202T185615Z
LAST-MODIFIED:20230320T154749Z
UID:60572-1679385600-1683306000@www.beauphoto.com
SUMMARY:Sneaky Light - An exhibition of pinhole photographs from ordinary household objects
DESCRIPTION:March 21 – May 5\nBeau Photo Gallery Space\nOpening Reception\nMarch 23rd 4:30 – 6:30pm\nDoes a photograph need to be taken with a camera?\nIf photography is to draw with light\, what other methods are there for creating an image? What if photographs could be taken using ordinary containers or objects you find around the house? Visit the exhibition in the Beau gallery space and see what the possibilities are. \nSee details on the exhibition page – www.beauphoto.com/sneaky-light-pinhole-exhibition/
URL:https://www.beauphoto.com/event/call-for-submissions-sneaky-light-pinhole-photographs-from-ordinary-household-objects/
LOCATION:Beau Photo Shop\, 110 - 1401 West 8th Ave\, Vancouver\, B.C.\, V6H 1C9\, Canada
CATEGORIES:Events Calendar
ATTACH;FMTTYPE=image/jpeg:https://www.beauphoto.com/wp-content/uploads/capture/sneaky2023/pinhole_popcorn1_web.jpg
ORGANIZER;CN="Beau Photo":MAILTO:info@beauphoto.com
END:VEVENT
END:VCALENDAR