BEGIN:VCALENDAR
VERSION:2.0
PRODID:-//Beau Photo Supplies Inc. - ECPv6.15.15//NONSGML v1.0//EN
CALSCALE:GREGORIAN
METHOD:PUBLISH
X-ORIGINAL-URL:https://www.beauphoto.com
X-WR-CALDESC:Events for Beau Photo Supplies Inc.
REFRESH-INTERVAL;VALUE=DURATION:PT1H
X-Robots-Tag:noindex
X-PUBLISHED-TTL:PT1H
BEGIN:VTIMEZONE
TZID:America/Vancouver
BEGIN:DAYLIGHT
TZOFFSETFROM:-0800
TZOFFSETTO:-0700
TZNAME:PDT
DTSTART:20210314T100000
END:DAYLIGHT
BEGIN:STANDARD
TZOFFSETFROM:-0700
TZOFFSETTO:-0800
TZNAME:PST
DTSTART:20211107T090000
END:STANDARD
BEGIN:DAYLIGHT
TZOFFSETFROM:-0800
TZOFFSETTO:-0700
TZNAME:PDT
DTSTART:20220313T100000
END:DAYLIGHT
BEGIN:STANDARD
TZOFFSETFROM:-0700
TZOFFSETTO:-0800
TZNAME:PST
DTSTART:20221106T090000
END:STANDARD
BEGIN:DAYLIGHT
TZOFFSETFROM:-0800
TZOFFSETTO:-0700
TZNAME:PDT
DTSTART:20230312T100000
END:DAYLIGHT
BEGIN:STANDARD
TZOFFSETFROM:-0700
TZOFFSETTO:-0800
TZNAME:PST
DTSTART:20231105T090000
END:STANDARD
BEGIN:DAYLIGHT
TZOFFSETFROM:-0800
TZOFFSETTO:-0700
TZNAME:PDT
DTSTART:20240310T100000
END:DAYLIGHT
BEGIN:STANDARD
TZOFFSETFROM:-0700
TZOFFSETTO:-0800
TZNAME:PST
DTSTART:20241103T090000
END:STANDARD
END:VTIMEZONE
BEGIN:VEVENT
DTSTART;TZID=America/Vancouver:20221109T083000
DTEND;TZID=America/Vancouver:20230114T140000
DTSTAMP:20260421T164120
CREATED:20221108T000135Z
LAST-MODIFIED:20221109T003745Z
UID:58261-1667982600-1673704800@www.beauphoto.com
SUMMARY:Shooting Stars - The Famous & the Forgotten: Vancouver Musicians of the 70s and 80s
DESCRIPTION:November 9th – January 14th\, 2023\nOpening Reception November 24th 4pm-7pm\n  \nPhotography by Hans Sipma\nAn exhibition of some of Vancouver’s most famous\, and least known bands from the 70’s and 80’s\nHans Sipma began photographing musicians in the 1970’s\, often in a borrowed department store studio (first The Bay\, later Eaton’s) where by day\, he shot everything from fashion to furniture. His after-hours work brought him to the attention of Vancouver talent agents like Bruce Allen and Sam Feldman\, and through them\, to soon-to-be legends like Bryan Adams\, Doug & the Slugs and Trooper. The budgets were small\, the hair was big\, and digital didn’t exist\, so “making it work” took a lot of late nights and a lot of ingenuity. Hans hopes you enjoy this look back at the boys in the bands – some famous\, some forgotten\, all part of Vancouver music history.
URL:https://www.beauphoto.com/event/shooting-stars-the-famous-the-forgotten-vancouver-musicians-of-the-70s-and-80s/
LOCATION:Beau Photo Shop\, 110 - 1401 West 8th Ave\, Vancouver\, B.C.\, V6H 1C9\, Canada
CATEGORIES:Events Calendar
ATTACH;FMTTYPE=image/jpeg:https://www.beauphoto.com/wp-content/uploads/beau_gallery/027-handley_hans_sipma.jpg
ORGANIZER;CN="Beau Photo":MAILTO:info@beauphoto.com
END:VEVENT
END:VCALENDAR