BEGIN:VCALENDAR
VERSION:2.0
PRODID:-//Beau Photo Supplies Inc. - ECPv6.15.15//NONSGML v1.0//EN
CALSCALE:GREGORIAN
METHOD:PUBLISH
X-WR-CALNAME:Beau Photo Supplies Inc.
X-ORIGINAL-URL:https://www.beauphoto.com
X-WR-CALDESC:Events for Beau Photo Supplies Inc.
REFRESH-INTERVAL;VALUE=DURATION:PT1H
X-Robots-Tag:noindex
X-PUBLISHED-TTL:PT1H
BEGIN:VTIMEZONE
TZID:America/Vancouver
BEGIN:DAYLIGHT
TZOFFSETFROM:-0800
TZOFFSETTO:-0700
TZNAME:PDT
DTSTART:20200308T100000
END:DAYLIGHT
BEGIN:STANDARD
TZOFFSETFROM:-0700
TZOFFSETTO:-0800
TZNAME:PST
DTSTART:20201101T090000
END:STANDARD
BEGIN:DAYLIGHT
TZOFFSETFROM:-0800
TZOFFSETTO:-0700
TZNAME:PDT
DTSTART:20210314T100000
END:DAYLIGHT
BEGIN:STANDARD
TZOFFSETFROM:-0700
TZOFFSETTO:-0800
TZNAME:PST
DTSTART:20211107T090000
END:STANDARD
BEGIN:DAYLIGHT
TZOFFSETFROM:-0800
TZOFFSETTO:-0700
TZNAME:PDT
DTSTART:20220313T100000
END:DAYLIGHT
BEGIN:STANDARD
TZOFFSETFROM:-0700
TZOFFSETTO:-0800
TZNAME:PST
DTSTART:20221106T090000
END:STANDARD
END:VTIMEZONE
BEGIN:VEVENT
DTSTART;TZID=America/Vancouver:20210410T140000
DTEND;TZID=America/Vancouver:20210410T163000
DTSTAMP:20260423T120027
CREATED:20210315T182541Z
LAST-MODIFIED:20210319T221657Z
UID:42244-1618063200-1618072200@www.beauphoto.com
SUMMARY:An Urban Wander
DESCRIPTION:  \nJoin us and stroll through the streets like the flaneurs of 19th century Paris\, but as an active observer\, using your camera to record impressions as you come upon them. To stroll is to deliberately move through\, and be surrounded by the architecture and inhabitants of the city\, but with no specific intention. In this case however\, you will interact with you surroundings through your camera. \n\nStrolling as a small group adds another dimension to the urban experience as you exchange ideas with others and move in unexpected directions\, opening new doors to the city and offering new inspiration.\n \n\nWander – April 10\, 2pm – 4:30pm\nExhibition – April 24 – May 15\n \n\nTry lenses from the rental department on a digital wander\, or a roll of Ilford film for your camera on an analogue stroll. Each wanderer will have one image selected for printing to be displayed in an exhibition at the shop. You must register to join us on the walk. See details below on where and when to sign up.\n\nSpace is limited for the walks\, viewing the exhibition is open to all.\n\nRegistration is required for the wander. Register from March 20th to 28th.  \nDetails at  www.beauphoto.com/urbanwander\n\n\n*Walks will follow all provincial health orders in place at the time of the event and are limited to 10 people for each group. There will be one film group and one digital group. \n 
URL:https://www.beauphoto.com/event/an-urban-wander/
LOCATION:Beau Photo Shop\, 110 - 1401 West 8th Ave\, Vancouver\, B.C.\, V6H 1C9\, Canada
CATEGORIES:Events Calendar
ORGANIZER;CN="Beau Photo":MAILTO:info@beauphoto.com
END:VEVENT
END:VCALENDAR